BEGIN:VCALENDAR
VERSION:2.0
PRODID:-//İSTANBUL ULUSLARARASI NARTUGAN FİLM FESTIVALİ - ECPv6.15.20//NONSGML v1.0//EN
CALSCALE:GREGORIAN
METHOD:PUBLISH
X-ORIGINAL-URL:https://www.nartugan.com.tr
X-WR-CALDESC:İSTANBUL ULUSLARARASI NARTUGAN FİLM FESTIVALİ için etkinlikler
REFRESH-INTERVAL;VALUE=DURATION:PT1H
X-Robots-Tag:noindex
X-PUBLISHED-TTL:PT1H
BEGIN:VTIMEZONE
TZID:UTC
BEGIN:STANDARD
TZOFFSETFROM:+0000
TZOFFSETTO:+0000
TZNAME:UTC
DTSTART:20250101T000000
END:STANDARD
END:VTIMEZONE
BEGIN:VEVENT
DTSTART;TZID=UTC:20260315T110000
DTEND;TZID=UTC:20260318T170000
DTSTAMP:20260419T162904
CREATED:20260118T195940Z
LAST-MODIFIED:20260118T195940Z
UID:332-1773572400-1773853200@www.nartugan.com.tr
SUMMARY:Nartugan Mart Buluşması: "Mart Seçkisi" İbni Haldun’da!
DESCRIPTION:Sinemanın taze nefesi\, özel bir programla kampüse taşınıyor! 15-18 Mart tarihleri arasında İbni Haldun Üniversitesi’nde gerçekleştireceğimiz 3 günlük bu sinema şöleninde; festivalimizin merakla beklenen **”Mart Seçkisi”**nde yer alan yapımları izleyiciyle buluşturuyoruz. Öne çıkan eserlerden oluşan bu özel seçki\, öğrencilerimizi ve sinemaseverleri derinlikli hikâyelerle bir araya getiriyor. Bu sanatsal keşif yolculuğunda siz de yerinizi alın!
URL:https://www.nartugan.com.tr/index.php/event/nartugan-mart-bulusmasi-mart-seckisi-ibni-haldunda/
LOCATION:İbn Haldun Üniversitesi\, Taş Mektep Yerleşkesi\, Yenimahalle\, Hazırlık Sk. No:10\, 34142\, Bakırköy/İstanbul\, Turkey
END:VEVENT
BEGIN:VEVENT
DTSTART;VALUE=DATE:20260220
DTEND;VALUE=DATE:20260225
DTSTAMP:20260419T162904
CREATED:20260118T194108Z
LAST-MODIFIED:20260118T194108Z
UID:330-1771545600-1771977599@www.nartugan.com.tr
SUMMARY:Kampüste Sinema Rüzgarı: Ustalar Gençlerle Buluşuyor
DESCRIPTION:İçerik: Sinemanın mutfağı\, İbni Haldun Üniversitesi’nin akademik çatısı altında genç yeteneklerle buluşuyor! 20-24 Şubat tarihleri arasında gerçekleştireceğimiz bu özel etkinlik dizisinde; tanınmış yönetmenler\, usta oyuncular ve sektörün öncü sinemacıları\, üniversitemizin sinema kulübü öğrencileriyle bir araya geliyor. Konferanslardan interaktif panel ve özel toplantılara kadar dopdolu geçecek bu programda\, sektörün tecrübesi ile gençlerin dinamizmini harmanlıyoruz. Geleceğin sinemacıları için ilham dolu bir hafta başlıyor!
URL:https://www.nartugan.com.tr/index.php/event/kampuste-sinema-ruzgari-ustalar-genclerle-bulusuyor/
END:VEVENT
END:VCALENDAR